BEGIN:VCALENDAR
VERSION:2.0
PRODID:-//Westcott Community - ECPv6.15.17.1//NONSGML v1.0//EN
CALSCALE:GREGORIAN
METHOD:PUBLISH
X-ORIGINAL-URL:https://westcottsyr.com
X-WR-CALDESC:Events for Westcott Community
REFRESH-INTERVAL;VALUE=DURATION:PT1H
X-Robots-Tag:noindex
X-PUBLISHED-TTL:PT1H
BEGIN:VTIMEZONE
TZID:UTC
BEGIN:STANDARD
TZOFFSETFROM:+0000
TZOFFSETTO:+0000
TZNAME:UTC
DTSTART:20250101T000000
END:STANDARD
END:VTIMEZONE
BEGIN:VEVENT
DTSTART;TZID=UTC:20260423T160000
DTEND;TZID=UTC:20260423T183000
DTSTAMP:20260421T011848
CREATED:20260321T153727Z
LAST-MODIFIED:20260321T153727Z
UID:10819-1776960000-1776969000@westcottsyr.com
SUMMARY:FREE K-12 Tutoring
DESCRIPTION:ESF Student Tutors will be at Petit for FREE drop-in support for K-12 students in reading\, writing\, science\, and math.
URL:https://westcottsyr.com/event/dispossession-of-the-haudenosaunee-a-chronology-in-maps-2-2-2-2-2-2-2-4-3-2-3-2-2-2-2-2-2-2-2-2-3-2-2-2/
LOCATION:Petit Branch Library\, 105 Victoria Pl\, Syracuse\, NY\, 13210\, United States
CATEGORIES:For Children,Teens,Tweens
ATTACH;FMTTYPE=image/jpeg:https://westcottsyr.com/wp-content/uploads/2022/06/Petit-Branch-Library-2.jpg
ORGANIZER;CN="Petit Branch Library":MAILTO:msmith@onlib.org
END:VEVENT
END:VCALENDAR